BEGIN:VCALENDAR
VERSION:2.0
PRODID:-//Growing Orbits - ECPv6.15.16.1//NONSGML v1.0//EN
CALSCALE:GREGORIAN
METHOD:PUBLISH
X-WR-CALNAME:Growing Orbits
X-ORIGINAL-URL:https://growing-orbits.com
X-WR-CALDESC:Events for Growing Orbits
REFRESH-INTERVAL;VALUE=DURATION:PT1H
X-Robots-Tag:noindex
X-PUBLISHED-TTL:PT1H
BEGIN:VTIMEZONE
TZID:Europe/Rome
BEGIN:DAYLIGHT
TZOFFSETFROM:+0100
TZOFFSETTO:+0200
TZNAME:CEST
DTSTART:20210328T010000
END:DAYLIGHT
BEGIN:STANDARD
TZOFFSETFROM:+0200
TZOFFSETTO:+0100
TZNAME:CET
DTSTART:20211031T010000
END:STANDARD
BEGIN:DAYLIGHT
TZOFFSETFROM:+0100
TZOFFSETTO:+0200
TZNAME:CEST
DTSTART:20220327T010000
END:DAYLIGHT
BEGIN:STANDARD
TZOFFSETFROM:+0200
TZOFFSETTO:+0100
TZNAME:CET
DTSTART:20221030T010000
END:STANDARD
BEGIN:DAYLIGHT
TZOFFSETFROM:+0100
TZOFFSETTO:+0200
TZNAME:CEST
DTSTART:20230326T010000
END:DAYLIGHT
BEGIN:STANDARD
TZOFFSETFROM:+0200
TZOFFSETTO:+0100
TZNAME:CET
DTSTART:20231029T010000
END:STANDARD
BEGIN:DAYLIGHT
TZOFFSETFROM:+0100
TZOFFSETTO:+0200
TZNAME:CEST
DTSTART:20240331T010000
END:DAYLIGHT
BEGIN:STANDARD
TZOFFSETFROM:+0200
TZOFFSETTO:+0100
TZNAME:CET
DTSTART:20241027T010000
END:STANDARD
BEGIN:DAYLIGHT
TZOFFSETFROM:+0100
TZOFFSETTO:+0200
TZNAME:CEST
DTSTART:20250330T010000
END:DAYLIGHT
BEGIN:STANDARD
TZOFFSETFROM:+0200
TZOFFSETTO:+0100
TZNAME:CET
DTSTART:20251026T010000
END:STANDARD
END:VTIMEZONE
BEGIN:VEVENT
DTSTART;TZID=Europe/Rome:20240120T150000
DTEND;TZID=Europe/Rome:20240120T180000
DTSTAMP:20260423T170128
CREATED:20231019T154147Z
LAST-MODIFIED:20231219T074321Z
UID:1929-1705762800-1705773600@growing-orbits.com
SUMMARY:The voice of nature: bridging outer and inner worlds – Part 2
DESCRIPTION:This event includes two sessions:\n\nPart 1: Saturday 25th November 2023 @ 15:00 to 18:00 CET\nPart 2: Saturday 20th January 2024 @ 15:00 to 18:00 CET\n\nPurchase tickets for this event\n\nDescription\n\nThe word ‘nature’ has two different meanings: on one hand\, it refers to  a physical reality surrounding humans\, including plants\, animals\, landscapes; products or events coming from the earth; on the other\, it describes the qualities\, character or essence of somebody or something.\n\nIn these two workshops we will explore how both these meanings can be useful tools and allies for understanding ourselves\, as well as our life experiences. We will look at how ‘nature’ in both its meanings has a voice that engages our capacity for interaction and reciprocity\, be it conscious or not\, desired or not.\n\nWe will ask ourselves if and how these two definitions of nature might overlap and\, if so\, in what way. How do reality and perception inform the meaning and direction we give to our outer reality\, as well as to our inner one?\n\nThrough creative activities and work in pairs/small groups\, we will try to distill some useful insights to bring resources\, meaning and healing to whatever is featuring in your life at this moment.\n\nParticipants will be invited to keep a personal journal/diary in between the two workshops to deepen their explorations.
URL:https://growing-orbits.com/event/the-voice-of-nature-20-01-2024/
LOCATION:Zoom
CATEGORIES:Workshops & Courses
ATTACH;FMTTYPE=image/jpeg:https://growing-orbits.com/wp-content/uploads/2023/01/Self-development-courses-scaled.jpg
END:VEVENT
BEGIN:VEVENT
DTSTART;TZID=Europe/Rome:20240111T200000
DTEND;TZID=Europe/Rome:20240111T230000
DTSTAMP:20260423T170128
CREATED:20231019T161601Z
LAST-MODIFIED:20231019T162539Z
UID:1931-1705003200-1705014000@growing-orbits.com
SUMMARY:Orbite sognanti - Gruppo di esploratori di sogni
DESCRIPTION:Orbite sognanti – Gruppo di esploratori di sogni\nMax: 6 partecipanti \nQuando?\nUna volta al mese da gennaio a giugno \nPrimo incontro giovedì 11 gennaio dalle ore 20 alle ore 22 \nIncontri successivi\, primo giovedì di ogni mese dalle ore 20 alle ore 22 \n  \nDove?\nSgonico\, Carso Triestino \nCosto: 15 euro a incontro \nPer informazioni e iscrizioni si prega di mandare una mail a: \n        \n            he***@gr************.com\n            \n                \n                \n                \n            \n            \n                \n                \n                \n            \n        \n\nTel. e WhatsApp: +39 334 194 93 30
URL:https://growing-orbits.com/event/orbite-sognanti-gruppo-di-esploratori-di-sogni/
LOCATION:Studio Growing Orbits\, Sgonico (Trieste\, Italy)\, Trieste\, Karst\, Italy
CATEGORIES:Workshops & Courses
ATTACH;FMTTYPE=image/jpeg:https://growing-orbits.com/wp-content/uploads/2023/10/dreamscape-sm.jpg
END:VEVENT
BEGIN:VEVENT
DTSTART;TZID=Europe/Rome:20231223T183000
DTEND;TZID=Europe/Rome:20231223T193000
DTSTAMP:20260423T170128
CREATED:20231019T162228Z
LAST-MODIFIED:20231222T131307Z
UID:1937-1703356200-1703359800@growing-orbits.com
SUMMARY:The 12 Holy Nights
DESCRIPTION:The Twelve Holy Nights encompass the period between Christmas Eve (24th December) and Epiphany (6th January). \nThis is a sacred time of the year in many traditions and places around the world – a time that encourages reflection and reconnection with our spiritual selves; a time for imagination\, dreaming\, rest\, but also communion and sharing with others. \nThis year\, I am creating a shared imaginal space by sending around an image and a piece of music each morning\, for 12 days\, to those interested in joining and experimenting with this process. \nThere will be an introductory gathering on December 23rd to open the space and the process\, and a conclusive gathering on the 6th of January to close them and share about the experience in a circle. \nThis can be a very powerful process of introspection and transformation\, and a regular commitment to each Holy Night adds to the depth and richness of the process. \nIndividual attunement and process\nZoom dates: \n\n23rd December – gathering on Zoom to open the process\n6th of January – gathering on Zoom to close the process and share\n\nThe following dates will be honoured: \n\n1st Holy Night: 25th December – individual attunement and contribution\n2nd Holy Night: 26th December\n3rd Holy Night:  27th December\n4th Holy Night: 28th December\n5th Holy Night: 29th December\n6th Holy Night: 30th December\n7th Holy Night: 31st December\n8th Holy Night: 1st January\n9th Holy Night: 2nd January\n10th Holy Night: 3rd January\n11th Holy Night: 4th January\n12th Holy Night: 5rd January\n\nDonations\nAll contributions collected through these workshops will be used to buy and\nplant new trees and for the building of a pond on Prà Strela\, the land I work\nfrom as an eco-counsellor and group facilitator in Sgonico\, Trieste (Italy). \nMake a donation
URL:https://growing-orbits.com/event/the-12-holy-nights-2023/
LOCATION:Zoom
CATEGORIES:Workshops & Courses
ATTACH;FMTTYPE=image/jpeg:https://growing-orbits.com/wp-content/uploads/2023/10/holynights.jpg
END:VEVENT
BEGIN:VEVENT
DTSTART;TZID=Europe/Rome:20231223T160000
DTEND;TZID=Europe/Rome:20231223T180000
DTSTAMP:20260423T170128
CREATED:20230213T132653Z
LAST-MODIFIED:20231218T152352Z
UID:632-1703347200-1703354400@growing-orbits.com
SUMMARY:Last night I dreamt of… an animal! - Winter Solstice
DESCRIPTION:Saturday 23rd December 2023 – Winter Solstice\n@ 4 pm ECT (Rome) / 3 pm GMT (London)\nWhere: Zoom\nDuration: 2 hours\nLanguage: English  (Participants who understand English but don’t speak it fluently welcome) \nDescription\nThis will be our last meeting for the year 2023\, following the last stretch of the Sun’s path. \nAs we enter Winter time\, we will go in a place of retreat and rest\, following and mirroring the language of nature. We will access our dreamscapes\, and let ourselves be guided by images and dream experiences emerging from there\, hence transcending literal and tangible reality. \nEach participant is invited to bring a dream (or part of a dream) to the circle and share it with the others. \nPlease don’t be tricked by the title of this gathering: you don’t need to have dreamt of an animal to share your dream! An animal will join our explorations as a guide or mentor\, according to what emerges among the group\, so be ready for a Christmas gift and surprise! \nA note for those who don’t dream much/cannot remember their dreams:   \nPlease join the circle too as we will need some participants acting as dream’s resonators\, a role that will allow us to play together with the magic of Winter dreaming. \nWhat to bring\nPen and paper/diary\, coloured pencils or paint.
URL:https://growing-orbits.com/event/winter-solstice/
LOCATION:Zoom
CATEGORIES:The Place of Dreams
ATTACH;FMTTYPE=image/jpeg:https://growing-orbits.com/wp-content/uploads/2023/02/AdobeStock_351557191-scaled.jpeg
END:VEVENT
BEGIN:VEVENT
DTSTART;TZID=Europe/Rome:20231125T150000
DTEND;TZID=Europe/Rome:20231125T180000
DTSTAMP:20260423T170128
CREATED:20231019T153735Z
LAST-MODIFIED:20231026T173213Z
UID:1923-1700924400-1700935200@growing-orbits.com
SUMMARY:The voice of nature: bridging outer and inner worlds - Part 1
DESCRIPTION:This event includes two sessions: \nPart 1: Saturday 25th November 2023 @ 15:00 to 18:00 CET\nPart 2: Saturday 20th January 2024 @ 15:00 to 18:00 CET \nDescription \nThe word ‘nature’ has two different meanings: on one hand\, it refers to  a physical reality surrounding humans\, including plants\, animals\, landscapes; products or events coming from the earth; on the other\, it describes the qualities\, character or essence of somebody or something. \nIn these two workshops we will explore how both these meanings can be useful tools and allies for understanding ourselves\, as well as our life experiences. We will look at how ‘nature’ in both its meanings has a voice that engages our capacity for interaction and reciprocity\, be it conscious or not\, desired or not. \nWe will ask ourselves if and how these two definitions of nature might overlap and\, if so\, in what way. How do reality and perception inform the meaning and direction we give to our outer reality\, as well as to our inner one? \nThrough creative activities and work in pairs/small groups\, we will try to distill some useful insights to bring resources\, meaning and healing to whatever is featuring in your life at this moment. \nParticipants will be invited to keep a personal journal/diary in between the two workshops to deepen their explorations.
URL:https://growing-orbits.com/event/the-voice-of-nature-25-11-2023/
LOCATION:Zoom
CATEGORIES:Workshops & Courses
ATTACH;FMTTYPE=image/jpeg:https://growing-orbits.com/wp-content/uploads/2023/01/Self-development-courses-scaled.jpg
END:VEVENT
BEGIN:VEVENT
DTSTART;TZID=Europe/Rome:20230923T160000
DTEND;TZID=Europe/Rome:20230924T180000
DTSTAMP:20260423T170128
CREATED:20230213T121211Z
LAST-MODIFIED:20230922T215522Z
UID:622-1695484800-1695578400@growing-orbits.com
SUMMARY:Following the roots\, I ground - Autumn Equinox
DESCRIPTION:Sunday 24th September 2023 – Autumn Equinox\n@ 4 pm ECT (Rome) / 3 pm GMT (London)\nWhere: Zoom\nDuration: 2 Hours\nLanguage: English  (Participants who understand English but don’t speak it fluently welcome) \nDescription\nBirds migrating\nColours changing\nShadows longer \nTime to enjoy the harvest\nSpace to absorb the nutrients\nMoving down\, slowly\, in the ground. \nAs leaves and flowers around us wear new colours and gradually dry up\, how are we changing during this season? Let’s welcome the Autumn Equinox\, the time of the year where the length of days reduces and the light of the Sun reaches a point of balance – in a moment of perfect equality – with the night time. How is it for us to be and meet on that threshold? \nWe will enter the circle of this season by moving from the manifested sides of Nature and of ourselves to more downward and hidden places. Guided by trees\, we will take the way down from the canopy and the branches into the roots. \nEntering the ground\, meeting the soil\, both physical and metaphorical\, we will explore the messages and insights that will emerge from there\, remembering that we have roots. What’s their meaning and purposes for the final months of this year? \nWhat to have at hand\nPen and paper/diary\, coloured pencils or paint. \nPreparation\nChoose a tree in your surroundings and visit the place where it stands. Looking up through its canopy\, it branches and leaves\, then observe the trunk and finally its base or roots. Make a sketch or take a picture\, but most importantly allow all that you have observed and felt find a special place inside you. It is that place that we will visit together. \nJoin us via Zoom\n[tribe_tickets_protected_content post_id=”622″ ticketed=”0″]\nPlease log in using the account you purchased tickets with to access the Zoom link.\n[/tribe_tickets_protected_content]\n[tribe_tickets_protected_content post_id=”622″] \nhttps://us02web.zoom.us/j/82045734955?pwd=MG1VWXBKVytWWnlka29PTlNaempLQT09Sunday 24th September 2023 – Autumn Equinox\n@ 4 pm ECT (Rome) / 3 pm GMT (London)\nMeeting ID: 820 4573 4955Passcode: 648158\n[/tribe_tickets_protected_content]
URL:https://growing-orbits.com/event/autumn-equinox-23/
LOCATION:Zoom
CATEGORIES:The Place of Dreams
ATTACH;FMTTYPE=image/jpeg:https://growing-orbits.com/wp-content/uploads/2023/02/AdobeStock_69748464-scaled.jpeg
END:VEVENT
BEGIN:VEVENT
DTSTART;TZID=Europe/Rome:20230708T110000
DTEND;TZID=Europe/Rome:20230708T180000
DTSTAMP:20260423T170128
CREATED:20230525T204816Z
LAST-MODIFIED:20230525T212329Z
UID:1871-1688814000-1688839200@growing-orbits.com
SUMMARY:Nutrients for Transformation:  Water\, Air\, Earth and Fire in our life
DESCRIPTION:Description\nWater\, Air\, Earth and Fire surround us daily in multiple ways\, but we rarely pay attention to how they serve our life. \nThis workshop offers an opportunity to connect with and reflect on our elemental world and our elemental selves\, focusing on the multiple links to our experiences – outer and inner – as well as our relations with others. \nBy combining experiential exercises\, work in Nature and exchanges with fellow explorers\, this workshop will: \n\nallow you to listen to the teachings of the elements directly from them;\nprovide you with a chance to attune and commune with the elements both outside and inside yourselves;\nbuild bridges between the elements and yourself as a being in interaction with other fellow humans\, as well as the other-than-human world.\n\nThe day will provide opportunities for independent explorations\, as well as work in pairs and in small groups. \nPlease bring some vegetarian food to share as we will have lunch together on the premises. Tea\, coffee will be provided. \nThe group will be limited to a maximum of 12 participants – book your place well in advance. \nWhat to bring:\n\nPen and journal/diary to write your notes in\nPaper and coloured pencils\nA small blanket and cushion (optional)\nAn object representing each of the 4 elements for you\n20-30 little stones/shells or any small object that can be used for representations\nAppropriate outdoor clothing (we will be working in Nature in all weather for some activities)\nFood to share for lunch\nPicnic blanket\, if you have one (optional)
URL:https://growing-orbits.com/event/oxford/
LOCATION:Hogacre Common\, Oxford\, 47 Whitehouse Rd\, Oxford\, OX1 4QH\, United Kingdom
CATEGORIES:Workshops & Courses
ATTACH;FMTTYPE=image/png:https://growing-orbits.com/wp-content/uploads/2023/05/Screenshot-2023-05-25-at-22.47.07.png
END:VEVENT
BEGIN:VEVENT
DTSTART;TZID=Europe/Rome:20230624T160000
DTEND;TZID=Europe/Rome:20230624T180000
DTSTAMP:20260423T170128
CREATED:20230126T164507Z
LAST-MODIFIED:20230525T202230Z
UID:330-1687622400-1687629600@growing-orbits.com
SUMMARY:The water of the Magical Child - Summer Solstice
DESCRIPTION:Saturday 24th June 2023 – Summer Solstice\n@ 4 pm ECT (Rome) / 3 pm GMT (London)\nWhere: Zoom\nDuration: 2 Hours\nLanguage: English  (Participants who understand English but don’t speak it fluently welcome) \nDescription\nWith the arrival of Summer\, the energy of the Sun is at its most powerful\, and nature around us speaks about manifestation\, maturity and ripening. Many people experience a strong\, powerful and very tangible connection with the material world during this period\, and the experience of embodiment changes as our senses become engaged more intensely. \nWhich memories do you have of your Summer holidays as a child? And what makes Summer ‘Summer’ for you today? \nBy remembering the child we once were\, we will connect to a special place inside ourselves\, where the Magical Child lives. We will listen to the teachings of the Sea/Ocean through a creative activity that will help us find gifts and resources for our most mature/adult side. Through visualisations we will also consider the role of trust\, courage and playfulness in our lives. \nHow to prepare and what to bring:\nPrepare to dive into Water by bringing with you a bucket/pot/bowl of salty water. Collect some little stones/pebbles/shells. \nChoose a picture of yourself as a 7 to 10 years old child\, and stick it with some tape on your bucket/pot/bowl of water \nIf possible and the weather allows it\, you are very welcome to connect for this Circle from a place outdoors. \nJoin us via Zoom \n[tribe_tickets_protected_content post_id=”330″]\nJun 24\, 2023 04:00 PM Rome \nhttps://us02web.zoom.us/j/86337119756?pwd=NW5IT1Y3Y3I4dWVkMkU2dUZSdzcxdz09\nMeeting ID: 863 3711 9756\nPasscode: 623989\n[/tribe_tickets_protected_content]\n[tribe_tickets_protected_content post_id=”330″ ticketed=”0″]\nPlease log in using the account you purchased tickets with to access the Zoom link.\n[/tribe_tickets_protected_content]
URL:https://growing-orbits.com/event/summer-solstice-zoom-event/
LOCATION:Zoom
CATEGORIES:The Place of Dreams
ATTACH;FMTTYPE=image/jpeg:https://growing-orbits.com/wp-content/uploads/2023/01/summersolstice-scaled.jpg
END:VEVENT
BEGIN:VEVENT
DTSTART;TZID=Europe/Rome:20230318T160000
DTEND;TZID=Europe/Rome:20230318T180000
DTSTAMP:20260423T170128
CREATED:20230126T162819Z
LAST-MODIFIED:20230320T120749Z
UID:321-1679155200-1679162400@growing-orbits.com
SUMMARY:Awakening like plants do… and birds witness - Spring Equinox
DESCRIPTION:Saturday 18th March 2023 – Spring Equinox\n@ 4 pm ECT (Rome) / 3 pm GMT (London)\nWhere: Zoom\nDuration: 2 Hours\nLanguage: English  (Participants who understand English but don’t speak it fluently welcome) \nDescription\nIn this first circle of the year 2023\, we will explore various themes that the arrival of Spring evokes: the return of light and the power of the Sun; awakening; emergence; initiation; rebirth. We will look at some of these themes through experiential exercises\, visualisations and work in pairs\, eliciting the connections and mirroring of our inner Springtime with the outer one. We will also connect to Nature directly\, attuning to the teachings of plants and birds in their dual role as active representatives of Spring and – at the same time – as witnesses of it. \nHow to prepare and what to bring:\nYou are invited to regularly observe a specific plant\, flower or tree (it can be as little as 1 minute a day) over several days before the event. As you do this\, you are invited to pay attention to a specific bird you can spot or hear in your surroundings. An image of the plant and the bird will be welcome in the circle. \nJoin us via Zoom\n[tribe_tickets_protected_content post_id=”321″]\nMar 18\, 2023 04:00 PM Rome \nJoin Zoom Meeting\nhttps://us02web.zoom.us/j/89033754019?pwd=VUFoL2p5SGJqSnJNQ052UUFzZzVSZz09\nMeeting ID: 890 3375 4019\nPasscode: 933745\n[/tribe_tickets_protected_content]\n[tribe_tickets_protected_content post_id=”321″ ticketed=”0″]\nPlease log in using the account you purchased tickets with to access the Zoom link.\n[/tribe_tickets_protected_content]
URL:https://growing-orbits.com/event/spring-equinox/
LOCATION:Zoom
CATEGORIES:The Place of Dreams
ATTACH;FMTTYPE=image/jpeg:https://growing-orbits.com/wp-content/uploads/2023/01/AdobeStock_334311676-scaled.jpeg
END:VEVENT
BEGIN:VEVENT
DTSTART;TZID=Europe/Rome:20221228T160000
DTEND;TZID=Europe/Rome:20221228T180000
DTSTAMP:20260423T170128
CREATED:20220924T164033Z
LAST-MODIFIED:20230324T175013Z
UID:1804-1672243200-1672250400@growing-orbits.com
SUMMARY:Winter's Story - Winter Solstice
DESCRIPTION:As we move closer to the threshold of 2023\, this workshop is an opportunity to take some quiet time and sit in a virtual circle to listen to Winter’s story from your dreamscape – the timeless landscape of imagination and dreams. What kind of story is narrated there? What do you hear and what does it have to tell you about the year that is about to end? \nIn this deeply personal and yet shared experience of connection to yourself and year 2022\, we will walk around the rim of the Wheel of the Four directions to link your lived\, tangible experiences of the year with your timeless Self. We will borrow the ancient tool of the Wheel – known across cultures and eras as a way of life – to uncover some hidden meanings\, find guidance and establish personal connections with Nature\, both as a physical reality and as a dimension inside yourselves. \nThis is the first of a series of workshops that will be offered in 2023 as we follow the path of the Sun through the cycle of the seasons. You are welcome to participate to one\, some or all the workshops. The series is open to all\, and no previous experience or knowledge of the Wheel of the Four directions is required.
URL:https://growing-orbits.com/event/winters-story-winter-solstice/
LOCATION:Zoom
CATEGORIES:The Place of Dreams
ATTACH;FMTTYPE=image/jpeg:https://growing-orbits.com/wp-content/uploads/2023/03/AdobeStock_465261015.jpg
END:VEVENT
END:VCALENDAR